BEGIN:VCALENDAR
VERSION:2.0
PRODID:-//Cobourg and Area Museum - ECPv6.15.20//NONSGML v1.0//EN
CALSCALE:GREGORIAN
METHOD:PUBLISH
X-WR-CALNAME:Cobourg and Area Museum
X-ORIGINAL-URL:https://cobourgmuseum.ca
X-WR-CALDESC:Events for Cobourg and Area Museum
REFRESH-INTERVAL;VALUE=DURATION:PT1H
X-Robots-Tag:noindex
X-PUBLISHED-TTL:PT1H
BEGIN:VTIMEZONE
TZID:UTC
BEGIN:STANDARD
TZOFFSETFROM:+0000
TZOFFSETTO:+0000
TZNAME:UTC
DTSTART:20240101T000000
END:STANDARD
END:VTIMEZONE
BEGIN:VTIMEZONE
TZID:America/Toronto
BEGIN:DAYLIGHT
TZOFFSETFROM:-0500
TZOFFSETTO:-0400
TZNAME:EDT
DTSTART:20240310T070000
END:DAYLIGHT
BEGIN:STANDARD
TZOFFSETFROM:-0400
TZOFFSETTO:-0500
TZNAME:EST
DTSTART:20241103T060000
END:STANDARD
BEGIN:DAYLIGHT
TZOFFSETFROM:-0500
TZOFFSETTO:-0400
TZNAME:EDT
DTSTART:20250309T070000
END:DAYLIGHT
BEGIN:STANDARD
TZOFFSETFROM:-0400
TZOFFSETTO:-0500
TZNAME:EST
DTSTART:20251102T060000
END:STANDARD
BEGIN:DAYLIGHT
TZOFFSETFROM:-0500
TZOFFSETTO:-0400
TZNAME:EDT
DTSTART:20260308T070000
END:DAYLIGHT
BEGIN:STANDARD
TZOFFSETFROM:-0400
TZOFFSETTO:-0500
TZNAME:EST
DTSTART:20261101T060000
END:STANDARD
END:VTIMEZONE
BEGIN:VEVENT
DTSTART;TZID=UTC:20250913T160000
DTEND;TZID=UTC:20250913T180000
DTSTAMP:20260423T105715
CREATED:20250326T000557Z
LAST-MODIFIED:20250822T164016Z
UID:454-1757779200-1757786400@cobourgmuseum.ca
SUMMARY:Art Draw for History
DESCRIPTION:A very special Saturday afternoon curated art fundraiser for the Cobourg & Area Museum. \nDATE September 13\, 2025\nPLACE Victoria Hall’s Ball Room\, 55 King Street West\, Cobourg\nTICKETS See information in brochure below (available by June 1) \nEvery ticket holder may bring a guest and will enjoy a fine afternoon with music and hors d’oeuvres\, and get to choose a work of art worth more than the price of a ticket! \nTO SEE THE ART\, CLICK HERE: CLICK
URL:https://cobourgmuseum.ca/index.php/event/art-draw-for-history/
LOCATION:Ontario
CATEGORIES:Art,Food,Fun,Music
ORGANIZER;CN="Museum Staff":MAILTO:info@cobourgmuseum.ca
END:VEVENT
BEGIN:VEVENT
DTSTART;TZID=America/Toronto:20250906T140000
DTEND;TZID=America/Toronto:20250906T153000
DTSTAMP:20260423T105715
CREATED:20250719T141302Z
LAST-MODIFIED:20250719T141302Z
UID:532-1757167200-1757172600@cobourgmuseum.ca
SUMMARY:The Ganaraska Chordsmen
DESCRIPTION:The ever-popular men’s a cappella group will be returning for an afternoon performance featuring their barbershop harmony.
URL:https://cobourgmuseum.ca/index.php/event/the-ganaraska-chordsmen/
LOCATION:Cobourg & Area Museum\, 141 Orr Street\, Cobourg\, Ontario\, K9A 0J6\, Canada
CATEGORIES:Fun,Music
ATTACH;FMTTYPE=image/jpeg:https://cobourgmuseum.ca/wp-content/uploads/2025/07/Chordsmen-Logo.jpg
END:VEVENT
END:VCALENDAR